BEGIN:VCALENDAR
VERSION:2.0
PRODID:spatie/icalendar-generator
DESCRIPTION:Events from Wellsville Area Chamber of Commerce
X-WR-CALDESC:Events from Wellsville Area Chamber of Commerce
REFRESH-INTERVAL;VALUE=DURATION:PT1440M
X-PUBLISHED-TTL:PT1440M
BEGIN:VTIMEZONE
TZID:America/New_York
BEGIN:STANDARD
DTSTART:20251102T020000Z
TZOFFSETFROM:-0400
TZOFFSETTO:-0500
END:STANDARD
BEGIN:DAYLIGHT
DTSTART:20260308T020000Z
TZOFFSETFROM:-0500
TZOFFSETTO:-0400
END:DAYLIGHT
BEGIN:STANDARD
DTSTART:20261101T020000Z
TZOFFSETFROM:-0400
TZOFFSETTO:-0500
END:STANDARD
END:VTIMEZONE
BEGIN:VTIMEZONE
TZID:UTC
BEGIN:STANDARD
DTSTART:20250727T194843Z
TZOFFSETFROM:+0000
TZOFFSETTO:+0000
END:STANDARD
END:VTIMEZONE
BEGIN:VEVENT
UID:728-600
DTSTAMP:20260423T194843Z
SUMMARY:Meditation/Prayer with Br. Kevin Kriso
LOCATION:David A Howe Library 155 N Main St  Wellsville  NY 14895
ORGANIZER;CN=KarenK:MAILTO:msc@wellsvilleareachamber.com
DTSTART;TZID=America/New_York:20260530T110000
DTEND;TZID=America/New_York:20260530T120000
X-ALT-DESC;FMTTYPE=TEXT/HTML:
CATEGORIES:Other Community Event
URL;VALUE=URI:https://wellsvilleareachamber.com/mc-events/meditation-prayer
 -with-br-kevin-kriso/
METHOD:PUBLISH
END:VEVENT
END:VCALENDAR