BEGIN:VCALENDAR
VERSION:2.0
PRODID:spatie/icalendar-generator
DESCRIPTION:Events from Wellsville Area Chamber of Commerce
X-WR-CALDESC:Events from Wellsville Area Chamber of Commerce
REFRESH-INTERVAL;VALUE=DURATION:PT1440M
X-PUBLISHED-TTL:PT1440M
BEGIN:VTIMEZONE
TZID:America/New_York
BEGIN:STANDARD
DTSTART:20251102T020000Z
TZOFFSETFROM:-0400
TZOFFSETTO:-0500
END:STANDARD
BEGIN:DAYLIGHT
DTSTART:20260308T020000Z
TZOFFSETFROM:-0500
TZOFFSETTO:-0400
END:DAYLIGHT
END:VTIMEZONE
BEGIN:VTIMEZONE
TZID:UTC
BEGIN:STANDARD
DTSTART:20250727T192312Z
TZOFFSETFROM:+0000
TZOFFSETTO:+0000
END:STANDARD
END:VTIMEZONE
BEGIN:VEVENT
UID:787-656
DTSTAMP:20260423T192312Z
SUMMARY:AKT Combatives Academy Women's Self-Defense Seminar
LOCATION:AKT Combatives Academy 86 N Main St  Upper  Wellsville NY 14895
ORGANIZER;CN=KarenK:MAILTO:msc@wellsvilleareachamber.com
DTSTART;TZID=America/New_York:20260425T120000
DTEND;TZID=America/New_York:20260425T140000
X-ALT-DESC;FMTTYPE=TEXT/HTML:
CATEGORIES:Other Community Event
URL;VALUE=URI:https://wellsvilleareachamber.com/mc-events/akt-combatives-ac
 ademy-womens-self-defense-seminar/
METHOD:PUBLISH
END:VEVENT
END:VCALENDAR